Package: safe Version: 3.41.1 Command: /home/biocbuild/R/R-4.3.1/bin/R CMD check --install=check:safe.install-out.txt --library=/home/biocbuild/R/R-4.3.1/site-library --timings safe_3.41.1.tar.gz StartedAt: 2023-10-24 12:17:33 -0000 (Tue, 24 Oct 2023) EndedAt: 2023-10-24 12:35:38 -0000 (Tue, 24 Oct 2023) EllapsedTime: 1085.1 seconds RetCode: 0 Status: OK CheckDir: safe.Rcheck Warnings: 0