Package: safe Version: 3.42.0 Command: /home/biocbuild/R/R-4.3.1/bin/R CMD INSTALL safe StartedAt: 2023-11-01 20:22:42 -0000 (Wed, 01 Nov 2023) EndedAt: 2023-11-01 20:23:05 -0000 (Wed, 01 Nov 2023) EllapsedTime: 22.9 seconds RetCode: 0 Status: OK