Package: safe Version: 3.42.0 Command: rm -rf safe.buildbin-libdir && mkdir safe.buildbin-libdir && /Users/biocbuild/BBS/utils/build-universal.sh safe_3.42.0.tar.gz /Library/Frameworks/R.framework/Resources/bin/R safe.buildbin-libdir StartedAt: 2024-03-04 01:02:03 -0500 (Mon, 04 Mar 2024) EndedAt: 2024-03-04 01:02:29 -0500 (Mon, 04 Mar 2024) EllapsedTime: 26.3 seconds RetCode: 0 Status: OK PackageFile: safe_3.42.0.tgz PackageFileSize: 899.3 KiB