Package: sangerseqR Version: 1.38.0 Command: /home/biocbuild/R/R-4.3.1/bin/R CMD check --install=check:sangerseqR.install-out.txt --library=/home/biocbuild/R/R-4.3.1/site-library --no-vignettes --timings sangerseqR_1.38.0.tar.gz StartedAt: 2023-11-02 14:02:30 -0000 (Thu, 02 Nov 2023) EndedAt: 2023-11-02 14:05:03 -0000 (Thu, 02 Nov 2023) EllapsedTime: 152.3 seconds RetCode: 0 Status: OK CheckDir: sangerseqR.Rcheck Warnings: 0