Package: satuRn Version: 1.10.0 Command: /Library/Frameworks/R.framework/Resources/bin/R CMD build --keep-empty-dirs --no-resave-data satuRn StartedAt: 2024-04-15 21:33:17 -0400 (Mon, 15 Apr 2024) EndedAt: 2024-04-15 21:36:07 -0400 (Mon, 15 Apr 2024) EllapsedTime: 170.0 seconds RetCode: 0 Status: OK PackageFile: satuRn_1.10.0.tar.gz PackageFileSize: 3.692 MiB