Package: scCB2 Version: 1.12.0 Command: /Library/Frameworks/R.framework/Resources/bin/R CMD build --keep-empty-dirs --no-resave-data scCB2 StartedAt: 2024-03-03 18:10:27 -0500 (Sun, 03 Mar 2024) EndedAt: 2024-03-03 18:15:13 -0500 (Sun, 03 Mar 2024) EllapsedTime: 285.8 seconds RetCode: 0 Status: OK PackageFile: scCB2_1.12.0.tar.gz PackageFileSize: 847.2 KiB