Package: scCB2 Version: 1.12.0 Command: /Library/Frameworks/R.framework/Resources/bin/R CMD check --install=check:scCB2.install-out.txt --library=/Library/Frameworks/R.framework/Resources/library --no-vignettes --timings scCB2_1.12.0.tar.gz StartedAt: 2024-04-16 08:24:07 -0400 (Tue, 16 Apr 2024) EndedAt: 2024-04-16 08:38:39 -0400 (Tue, 16 Apr 2024) EllapsedTime: 872.0 seconds RetCode: 0 Status: OK CheckDir: scCB2.Rcheck Warnings: 0