Package: scCB2 Version: 1.12.0 Command: /home/biocbuild/bbs-3.18-bioc/R/bin/R CMD build --keep-empty-dirs --no-resave-data scCB2 StartedAt: 2024-04-15 19:02:56 -0400 (Mon, 15 Apr 2024) EndedAt: 2024-04-15 19:06:48 -0400 (Mon, 15 Apr 2024) EllapsedTime: 232.7 seconds RetCode: 0 Status: OK PackageFile: scCB2_1.12.0.tar.gz PackageFileSize: 847.3 KiB