Package: scDblFinder Version: 1.16.0 Command: /home/biocbuild/bbs-3.18-bioc/R/bin/R CMD INSTALL scDblFinder StartedAt: 2024-04-15 15:44:42 -0400 (Mon, 15 Apr 2024) EndedAt: 2024-04-15 15:45:25 -0400 (Mon, 15 Apr 2024) EllapsedTime: 43.1 seconds RetCode: 0 Status: OK