Package: scDesign3 Version: 1.0.0 Command: /home/biocbuild/R/R-4.3.1/bin/R CMD build --keep-empty-dirs --no-resave-data scDesign3 StartedAt: 2023-11-02 05:44:43 -0000 (Thu, 02 Nov 2023) EndedAt: 2023-11-02 05:46:29 -0000 (Thu, 02 Nov 2023) EllapsedTime: 105.7 seconds RetCode: 0 Status: OK PackageFile: scDesign3_1.0.0.tar.gz PackageFileSize: 971.4 KiB