Package: scDesign3 Version: 1.0.1 Command: rm -rf scDesign3.buildbin-libdir && mkdir scDesign3.buildbin-libdir && /Users/biocbuild/BBS/utils/build-universal.sh scDesign3_1.0.1.tar.gz /Library/Frameworks/R.framework/Resources/bin/R scDesign3.buildbin-libdir StartedAt: 2024-03-04 01:02:58 -0500 (Mon, 04 Mar 2024) EndedAt: 2024-03-04 01:03:14 -0500 (Mon, 04 Mar 2024) EllapsedTime: 15.8 seconds RetCode: 0 Status: OK PackageFile: scDesign3_1.0.1.tgz PackageFileSize: 1.032 MiB