Package: scDesign3 Version: 1.0.1 Command: /Library/Frameworks/R.framework/Resources/bin/R CMD build --keep-empty-dirs --no-resave-data scDesign3 StartedAt: 2024-03-03 18:11:28 -0500 (Sun, 03 Mar 2024) EndedAt: 2024-03-03 18:12:58 -0500 (Sun, 03 Mar 2024) EllapsedTime: 90.2 seconds RetCode: 0 Status: OK PackageFile: scDesign3_1.0.1.tar.gz PackageFileSize: 930.3 KiB