Package: scDesign3 Version: 1.0.1 Command: rm -rf scDesign3.buildbin-libdir && mkdir scDesign3.buildbin-libdir && F:\biocbuild\bbs-3.18-bioc\R\bin\R.exe CMD INSTALL --build --library=scDesign3.buildbin-libdir scDesign3_1.0.1.tar.gz StartedAt: 2024-04-16 07:38:35 -0400 (Tue, 16 Apr 2024) EndedAt: 2024-04-16 07:38:50 -0400 (Tue, 16 Apr 2024) EllapsedTime: 14.6 seconds RetCode: 0 Status: OK PackageFile: scDesign3_1.0.1.zip PackageFileSize: 904.4 KiB