Package: scGPS Version: 1.16.0 Command: /home/biocbuild/R/R-4.3.1/bin/R CMD build --keep-empty-dirs --no-resave-data scGPS StartedAt: 2023-11-02 05:45:39 -0000 (Thu, 02 Nov 2023) EndedAt: 2023-11-02 05:54:24 -0000 (Thu, 02 Nov 2023) EllapsedTime: 524.6 seconds RetCode: 0 Status: OK PackageFile: scGPS_1.16.0.tar.gz PackageFileSize: 2.045 MiB