Package: scGPS Version: 1.16.0 Command: /Library/Frameworks/R.framework/Resources/bin/R CMD build --keep-empty-dirs --no-resave-data scGPS StartedAt: 2024-03-03 18:11:50 -0500 (Sun, 03 Mar 2024) EndedAt: 2024-03-03 18:18:22 -0500 (Sun, 03 Mar 2024) EllapsedTime: 392.4 seconds RetCode: 0 Status: OK PackageFile: scGPS_1.16.0.tar.gz PackageFileSize: 2.004 MiB