Package: scGPS Version: 1.16.0 Command: /Library/Frameworks/R.framework/Resources/bin/R CMD build --keep-empty-dirs --no-resave-data scGPS StartedAt: 2024-04-15 21:39:56 -0400 (Mon, 15 Apr 2024) EndedAt: 2024-04-15 21:53:38 -0400 (Mon, 15 Apr 2024) EllapsedTime: 822.1 seconds RetCode: 0 Status: OK PackageFile: scGPS_1.16.0.tar.gz PackageFileSize: 2.033 MiB