Package: scGPS Version: 1.16.0 Command: /Library/Frameworks/R.framework/Resources/bin/R CMD INSTALL scGPS StartedAt: 2024-04-15 16:20:42 -0400 (Mon, 15 Apr 2024) EndedAt: 2024-04-15 16:22:51 -0400 (Mon, 15 Apr 2024) EllapsedTime: 128.7 seconds RetCode: 0 Status: OK