Package: scGPS Version: 1.16.0 Command: rm -rf scGPS.buildbin-libdir && mkdir scGPS.buildbin-libdir && F:\biocbuild\bbs-3.18-bioc\R\bin\R.exe CMD INSTALL --build --library=scGPS.buildbin-libdir scGPS_1.16.0.tar.gz StartedAt: 2024-04-16 07:38:48 -0400 (Tue, 16 Apr 2024) EndedAt: 2024-04-16 07:40:19 -0400 (Tue, 16 Apr 2024) EllapsedTime: 90.9 seconds RetCode: 0 Status: OK PackageFile: scGPS_1.16.0.zip PackageFileSize: 2.85 MiB