Package: scHOT Version: 1.14.0 Command: rm -rf scHOT.buildbin-libdir && mkdir scHOT.buildbin-libdir && /Users/biocbuild/BBS/utils/build-universal.sh scHOT_1.14.0.tar.gz /Library/Frameworks/R.framework/Resources/bin/R scHOT.buildbin-libdir StartedAt: 2024-03-04 01:03:11 -0500 (Mon, 04 Mar 2024) EndedAt: 2024-03-04 01:03:54 -0500 (Mon, 04 Mar 2024) EllapsedTime: 43.0 seconds RetCode: 0 Status: OK PackageFile: scHOT_1.14.0.tgz PackageFileSize: 2.451 MiB