Package: scMET Version: 1.4.0 Command: /Library/Frameworks/R.framework/Resources/bin/R CMD build --keep-empty-dirs --no-resave-data scMET StartedAt: 2024-04-15 21:43:27 -0400 (Mon, 15 Apr 2024) EndedAt: 2024-04-15 21:50:34 -0400 (Mon, 15 Apr 2024) EllapsedTime: 426.8 seconds RetCode: 0 Status: OK PackageFile: scMET_1.4.0.tar.gz PackageFileSize: 3.282 MiB