Package: scRepertoire Version: 1.12.0 Command: /Library/Frameworks/R.framework/Resources/bin/R CMD INSTALL scRepertoire StartedAt: 2024-03-03 15:23:21 -0500 (Sun, 03 Mar 2024) EndedAt: 2024-03-03 15:24:17 -0500 (Sun, 03 Mar 2024) EllapsedTime: 55.4 seconds RetCode: 0 Status: OK