Package: scShapes
Version: 1.8.0
Command: /home/biocbuild/bbs-3.18-bioc/R/bin/R CMD build --keep-empty-dirs --no-resave-data scShapes
StartedAt: 2024-04-15 19:09:50 -0400 (Mon, 15 Apr 2024)
EndedAt: 2024-04-15 19:11:10 -0400 (Mon, 15 Apr 2024)
EllapsedTime: 79.9 seconds
RetCode: 0
Status: OK
PackageFile: scShapes_1.8.0.tar.gz
PackageFileSize: 30.08 <A href="http://en.wikipedia.org/wiki/KiB" target="_blank">KiB</A>