Package: scater Version: 1.30.1 Command: rm -rf scater.buildbin-libdir && mkdir scater.buildbin-libdir && /Users/biocbuild/BBS/utils/build-universal.sh scater_1.30.1.tar.gz /Library/Frameworks/R.framework/Resources/bin/R scater.buildbin-libdir StartedAt: 2024-04-16 12:39:37 -0400 (Tue, 16 Apr 2024) EndedAt: 2024-04-16 12:40:45 -0400 (Tue, 16 Apr 2024) EllapsedTime: 67.8 seconds RetCode: 0 Status: OK PackageFile: scater_1.30.1.tgz PackageFileSize: 4.576 MiB