Package: sccomp Version: 1.5.1 Command: /home/biocbuild/R/R-4.3.1/bin/R CMD check --install=check:sccomp.install-out.txt --library=/home/biocbuild/R/R-4.3.1/site-library --timings sccomp_1.5.1.tar.gz StartedAt: 2023-10-24 12:28:38 -0000 (Tue, 24 Oct 2023) EndedAt: 2023-10-24 13:07:34 -0000 (Tue, 24 Oct 2023) EllapsedTime: 2336.6 seconds RetCode: 0 Status: OK CheckDir: sccomp.Rcheck Warnings: 0