Package: sccomp Version: 1.6.0 Command: /home/biocbuild/bbs-3.18-bioc/R/bin/R CMD check --install=check:sccomp.install-out.txt --library=/home/biocbuild/bbs-3.18-bioc/R/site-library --timings sccomp_1.6.0.tar.gz StartedAt: 2024-04-16 03:28:28 -0400 (Tue, 16 Apr 2024) EndedAt: 2024-04-16 04:08:28 -0400 (Tue, 16 Apr 2024) EllapsedTime: 2400.0 seconds RetCode: None Status: TIMEOUT CheckDir: sccomp.Rcheck Warnings: NA