Package: sccomp Version: 1.6.0 Command: /home/biocbuild/bbs-3.18-bioc/R/bin/R CMD INSTALL sccomp StartedAt: 2024-04-15 15:23:28 -0400 (Mon, 15 Apr 2024) EndedAt: 2024-04-15 15:30:16 -0400 (Mon, 15 Apr 2024) EllapsedTime: 408.2 seconds RetCode: 0 Status: OK