Package: sccomp Version: 1.6.0 Command: rm -rf sccomp.buildbin-libdir && mkdir sccomp.buildbin-libdir && F:\biocbuild\bbs-3.18-bioc\R\bin\R.exe CMD INSTALL --build --library=sccomp.buildbin-libdir sccomp_1.6.0.tar.gz StartedAt: 2024-04-16 07:38:12 -0400 (Tue, 16 Apr 2024) EndedAt: 2024-04-16 07:46:43 -0400 (Tue, 16 Apr 2024) EllapsedTime: 511.6 seconds RetCode: 0 Status: OK PackageFile: sccomp_1.6.0.zip PackageFileSize: 3.689 MiB