Package: scde Version: 2.30.0 Command: /home/biocbuild/R/R-4.3.1/bin/R CMD INSTALL scde StartedAt: 2023-11-01 20:49:59 -0000 (Wed, 01 Nov 2023) EndedAt: 2023-11-01 20:51:36 -0000 (Wed, 01 Nov 2023) EllapsedTime: 97.0 seconds RetCode: 0 Status: OK