Package: scde Version: 2.30.0 Command: /Library/Frameworks/R.framework/Resources/bin/R CMD build --keep-empty-dirs --no-resave-data scde StartedAt: 2024-04-15 21:38:36 -0400 (Mon, 15 Apr 2024) EndedAt: 2024-04-15 21:38:38 -0400 (Mon, 15 Apr 2024) EllapsedTime: 2.1 seconds RetCode: 0 Status: OK PackageFile: scde_2.30.0.tar.gz PackageFileSize: 1.059 MiB