Package: scde Version: 2.30.0 Command: rm -rf scde.buildbin-libdir && mkdir scde.buildbin-libdir && F:\biocbuild\bbs-3.18-bioc\R\bin\R.exe CMD INSTALL --build --library=scde.buildbin-libdir scde_2.30.0.tar.gz StartedAt: 2024-04-16 07:38:26 -0400 (Tue, 16 Apr 2024) EndedAt: 2024-04-16 07:39:53 -0400 (Tue, 16 Apr 2024) EllapsedTime: 87.1 seconds RetCode: 0 Status: OK PackageFile: scde_2.30.0.zip PackageFileSize: 2.563 MiB