Package: scde Version: 2.30.0 Command: chmod a+r scde -R && F:\biocbuild\bbs-3.18-bioc\R\bin\R.exe CMD build --keep-empty-dirs --no-resave-data scde StartedAt: 2024-04-15 20:55:48 -0400 (Mon, 15 Apr 2024) EndedAt: 2024-04-15 20:55:51 -0400 (Mon, 15 Apr 2024) EllapsedTime: 3.0 seconds RetCode: 0 Status: OK PackageFile: scde_2.30.0.tar.gz PackageFileSize: 1.059 MiB