Package: scds
Version: 1.18.0
Maintainer: Dennis Kostka
MaintainerEmail: kostka at pitt.edu
git_url: https://git.bioconductor.org/packages/scds
git_branch: RELEASE_3_18
git_last_commit: dff0c08
git_last_commit_date: 2023-10-24 11:11:24 -0400 (Tue, 24 Oct 2023)