Package: scmeth Version: 1.22.0 Command: chmod a+r scmeth -R && F:\biocbuild\bbs-3.18-bioc\R\bin\R.exe CMD build --keep-empty-dirs --no-resave-data scmeth StartedAt: 2024-04-15 20:59:49 -0400 (Mon, 15 Apr 2024) EndedAt: 2024-04-15 21:01:51 -0400 (Mon, 15 Apr 2024) EllapsedTime: 122.7 seconds RetCode: 0 Status: OK PackageFile: scmeth_1.22.0.tar.gz PackageFileSize: 740.6 KiB