Package: scoreInvHap Version: 1.24.0 Maintainer: Dolors Pelegri-Siso MaintainerEmail: dolors.pelegri at isglobal.org git_url: https://git.bioconductor.org/packages/scoreInvHap git_branch: RELEASE_3_18 git_last_commit: 644e352 git_last_commit_date: 2023-10-24 10:58:01 -0400 (Tue, 24 Oct 2023)