Package: scoreInvHap Version: 1.24.0 Command: chmod a+r scoreInvHap -R && F:\biocbuild\bbs-3.18-bioc\R\bin\R.exe CMD build --keep-empty-dirs --no-resave-data scoreInvHap StartedAt: 2024-04-15 21:00:30 -0400 (Mon, 15 Apr 2024) EndedAt: 2024-04-15 21:01:58 -0400 (Mon, 15 Apr 2024) EllapsedTime: 87.9 seconds RetCode: 0 Status: OK PackageFile: scoreInvHap_1.24.0.tar.gz PackageFileSize: 1.022 MiB