Package: screenCounter Version: 1.2.0 Command: /Library/Frameworks/R.framework/Resources/bin/R CMD INSTALL screenCounter StartedAt: 2024-03-03 15:13:06 -0500 (Sun, 03 Mar 2024) EndedAt: 2024-03-03 15:14:57 -0500 (Sun, 03 Mar 2024) EllapsedTime: 111.2 seconds RetCode: 0 Status: OK