Package: screenCounter Version: 1.2.0 Command: chmod a+r screenCounter -R && F:\biocbuild\bbs-3.18-bioc\R\bin\R.exe CMD build --keep-empty-dirs --no-resave-data screenCounter StartedAt: 2024-04-15 21:01:49 -0400 (Mon, 15 Apr 2024) EndedAt: 2024-04-15 21:04:08 -0400 (Mon, 15 Apr 2024) EllapsedTime: 138.2 seconds RetCode: 0 Status: OK PackageFile: screenCounter_1.2.0.tar.gz PackageFileSize: 293.2 KiB