Package: scry Version: 1.14.0 Command: /Library/Frameworks/R.framework/Resources/bin/R CMD build --keep-empty-dirs --no-resave-data scry StartedAt: 2024-03-03 18:15:42 -0500 (Sun, 03 Mar 2024) EndedAt: 2024-03-03 18:20:38 -0500 (Sun, 03 Mar 2024) EllapsedTime: 296.2 seconds RetCode: 0 Status: OK PackageFile: scry_1.14.0.tar.gz PackageFileSize: 4.491 MiB