Package: scry Version: 1.14.0 Command: /Library/Frameworks/R.framework/Resources/bin/R CMD check --install=check:scry.install-out.txt --library=/Library/Frameworks/R.framework/Resources/library --no-vignettes --timings scry_1.14.0.tar.gz StartedAt: 2024-03-03 23:22:34 -0500 (Sun, 03 Mar 2024) EndedAt: 2024-03-03 23:26:10 -0500 (Sun, 03 Mar 2024) EllapsedTime: 215.9 seconds RetCode: 0 Status: OK CheckDir: scry.Rcheck Warnings: 0