Package: scry Version: 1.14.0 Command: /Library/Frameworks/R.framework/Resources/bin/R CMD INSTALL scry StartedAt: 2024-03-03 15:40:06 -0500 (Sun, 03 Mar 2024) EndedAt: 2024-03-03 15:40:41 -0500 (Sun, 03 Mar 2024) EllapsedTime: 34.6 seconds RetCode: 0 Status: OK