Package: scry Version: 1.14.0 Command: rm -rf scry.buildbin-libdir && mkdir scry.buildbin-libdir && /Users/biocbuild/BBS/utils/build-universal.sh scry_1.14.0.tar.gz /Library/Frameworks/R.framework/Resources/bin/R scry.buildbin-libdir StartedAt: 2024-04-16 12:42:06 -0400 (Tue, 16 Apr 2024) EndedAt: 2024-04-16 12:43:12 -0400 (Tue, 16 Apr 2024) EllapsedTime: 65.3 seconds RetCode: 0 Status: OK PackageFile: scry_1.14.0.tgz PackageFileSize: 4.548 MiB