Package: scry Version: 1.14.0 Command: /Library/Frameworks/R.framework/Resources/bin/R CMD INSTALL scry StartedAt: 2024-04-15 16:27:15 -0400 (Mon, 15 Apr 2024) EndedAt: 2024-04-15 16:28:05 -0400 (Mon, 15 Apr 2024) EllapsedTime: 50.5 seconds RetCode: 0 Status: OK