Package: scry Version: 1.14.0 Command: /home/biocbuild/bbs-3.18-bioc/R/bin/R CMD build --keep-empty-dirs --no-resave-data scry StartedAt: 2024-04-15 19:09:44 -0400 (Mon, 15 Apr 2024) EndedAt: 2024-04-15 19:13:37 -0400 (Mon, 15 Apr 2024) EllapsedTime: 233.0 seconds RetCode: 0 Status: OK PackageFile: scry_1.14.0.tar.gz PackageFileSize: 4.484 MiB