Package: scry Version: 1.14.0 Command: rm -rf scry.buildbin-libdir && mkdir scry.buildbin-libdir && F:\biocbuild\bbs-3.18-bioc\R\bin\R.exe CMD INSTALL --build --library=scry.buildbin-libdir scry_1.14.0.tar.gz StartedAt: 2024-04-16 07:39:55 -0400 (Tue, 16 Apr 2024) EndedAt: 2024-04-16 07:40:25 -0400 (Tue, 16 Apr 2024) EllapsedTime: 30.8 seconds RetCode: 0 Status: OK PackageFile: scry_1.14.0.zip PackageFileSize: 4.437 MiB