Package: scry Version: 1.14.0 Command: F:\biocbuild\bbs-3.18-bioc\R\bin\R.exe CMD INSTALL scry StartedAt: 2024-04-15 16:36:42 -0400 (Mon, 15 Apr 2024) EndedAt: 2024-04-15 16:37:15 -0400 (Mon, 15 Apr 2024) EllapsedTime: 33.0 seconds RetCode: 0 Status: OK