Package: seq2pathway Version: 1.34.0 Command: /Library/Frameworks/R.framework/Resources/bin/R CMD check --install=check:seq2pathway.install-out.txt --library=/Library/Frameworks/R.framework/Resources/library --no-vignettes --timings seq2pathway_1.34.0.tar.gz StartedAt: 2024-03-03 23:25:36 -0500 (Sun, 03 Mar 2024) EndedAt: 2024-03-03 23:30:12 -0500 (Sun, 03 Mar 2024) EllapsedTime: 275.6 seconds RetCode: 0 Status: WARNINGS CheckDir: seq2pathway.Rcheck Warnings: 2