Package: seq2pathway Version: 1.34.0 Command: /Library/Frameworks/R.framework/Resources/bin/R CMD INSTALL seq2pathway StartedAt: 2024-03-03 15:31:21 -0500 (Sun, 03 Mar 2024) EndedAt: 2024-03-03 15:31:56 -0500 (Sun, 03 Mar 2024) EllapsedTime: 34.3 seconds RetCode: 0 Status: OK