Package: shinyMethyl Version: 1.38.0 Command: /home/biocbuild/R/R-4.3.1/bin/R CMD check --install=check:shinyMethyl.install-out.txt --library=/home/biocbuild/R/R-4.3.1/site-library --no-vignettes --timings shinyMethyl_1.38.0.tar.gz StartedAt: 2023-11-02 14:20:56 -0000 (Thu, 02 Nov 2023) EndedAt: 2023-11-02 14:28:31 -0000 (Thu, 02 Nov 2023) EllapsedTime: 454.9 seconds RetCode: 0 Status: OK CheckDir: shinyMethyl.Rcheck Warnings: 0