Package: shinyepico
Version: 1.10.0
Command: chmod a+r shinyepico -R && F:\biocbuild\bbs-3.18-bioc\R\bin\R.exe CMD build --keep-empty-dirs --no-resave-data shinyepico
StartedAt: 2024-04-15 21:09:42 -0400 (Mon, 15 Apr 2024)
EndedAt: 2024-04-15 21:10:02 -0400 (Mon, 15 Apr 2024)
EllapsedTime: 20.4 seconds
RetCode: 0
Status: OK
PackageFile: shinyepico_1.10.0.tar.gz
PackageFileSize: 2.247 <A href="http://en.wikipedia.org/wiki/MiB" target="_blank">MiB</A>