Package: sigPathway Version: 1.67.1 Command: /home/biocbuild/bbs-3.18-bioc/R/bin/R CMD build --keep-empty-dirs --no-resave-data sigPathway StartedAt: 2023-04-20 05:48:42 -0400 (Thu, 20 Apr 2023) EndedAt: 2023-04-20 05:48:44 -0400 (Thu, 20 Apr 2023) EllapsedTime: 2.3 seconds RetCode: 1 Status: ERROR PackageFile: None PackageFileSize: NA